BEGIN:VCALENDAR
VERSION:2.0
PRODID:-//Escalade en Mayenne - Site du comité départemental d&#039;escalade de la Mayenne - ECPv6.15.17//NONSGML v1.0//EN
CALSCALE:GREGORIAN
METHOD:PUBLISH
X-ORIGINAL-URL:https://escaladeenmayenne.fr
X-WR-CALDESC:Évènements pour Escalade en Mayenne - Site du comité départemental d&#039;escalade de la Mayenne
REFRESH-INTERVAL;VALUE=DURATION:PT1H
X-Robots-Tag:noindex
X-PUBLISHED-TTL:PT1H
BEGIN:VTIMEZONE
TZID:Europe/Paris
BEGIN:DAYLIGHT
TZOFFSETFROM:+0100
TZOFFSETTO:+0200
TZNAME:CEST
DTSTART:20250330T010000
END:DAYLIGHT
BEGIN:STANDARD
TZOFFSETFROM:+0200
TZOFFSETTO:+0100
TZNAME:CET
DTSTART:20251026T010000
END:STANDARD
BEGIN:DAYLIGHT
TZOFFSETFROM:+0100
TZOFFSETTO:+0200
TZNAME:CEST
DTSTART:20260329T010000
END:DAYLIGHT
BEGIN:STANDARD
TZOFFSETFROM:+0200
TZOFFSETTO:+0100
TZNAME:CET
DTSTART:20261025T010000
END:STANDARD
BEGIN:DAYLIGHT
TZOFFSETFROM:+0100
TZOFFSETTO:+0200
TZNAME:CEST
DTSTART:20270328T010000
END:DAYLIGHT
BEGIN:STANDARD
TZOFFSETFROM:+0200
TZOFFSETTO:+0100
TZNAME:CET
DTSTART:20271031T010000
END:STANDARD
END:VTIMEZONE
BEGIN:VEVENT
DTSTART;TZID=Europe/Paris:20260228T080000
DTEND;TZID=Europe/Paris:20260228T170000
DTSTAMP:20260421T132439
CREATED:20250731T124314Z
LAST-MODIFIED:20260225T131431Z
UID:15765-1772265600-1772298000@escaladeenmayenne.fr
SUMMARY:Championnat régional de vitesse
DESCRIPTION:De U15 à vétérans \n\n\n\nProgramme :  \n\n\n\nProgramme détailléQualification u15/H u15/FFin du pointage09:30Début10:00Fin de l’épreuve11:45Finale u15/F u15/HFin du pointage11:50Début12:00Fin de l’épreuve12:30Qualification Vet/F u17/H u19/H u19/F Vet/H Sen/F Sen/H u17/FFin du pointage12:30Début13:00Fin de l’épreuve15:00Finale u17/H Sen/F u19/F u19/H Sen/H u17/F Vet/F Vet/HFin du pointage15:05Début15:15Fin de l’épreuve16:30
URL:https://escaladeenmayenne.fr/event/championnat-regional-de-vitesse-3/
LOCATION:Espace Mayenne\, 2 rue Josephine Baker\, Laval\, France
CATEGORIES:compétition,Compétition équipe départementale U15/U17/U19
ATTACH;FMTTYPE=image/png:https://escaladeenmayenne.fr/wp-content/uploads/2026/02/region_vitesse_26.png
END:VEVENT
END:VCALENDAR