BEGIN:VCALENDAR
VERSION:2.0
PRODID:-//Escalade en Mayenne - Site du comité départemental d&#039;escalade de la Mayenne - ECPv6.15.17//NONSGML v1.0//EN
CALSCALE:GREGORIAN
METHOD:PUBLISH
X-WR-CALNAME:Escalade en Mayenne - Site du comité départemental d&#039;escalade de la Mayenne
X-ORIGINAL-URL:https://escaladeenmayenne.fr
X-WR-CALDESC:Évènements pour Escalade en Mayenne - Site du comité départemental d&#039;escalade de la Mayenne
REFRESH-INTERVAL;VALUE=DURATION:PT1H
X-Robots-Tag:noindex
X-PUBLISHED-TTL:PT1H
BEGIN:VTIMEZONE
TZID:Europe/Paris
BEGIN:DAYLIGHT
TZOFFSETFROM:+0100
TZOFFSETTO:+0200
TZNAME:CEST
DTSTART:20250330T010000
END:DAYLIGHT
BEGIN:STANDARD
TZOFFSETFROM:+0200
TZOFFSETTO:+0100
TZNAME:CET
DTSTART:20251026T010000
END:STANDARD
BEGIN:DAYLIGHT
TZOFFSETFROM:+0100
TZOFFSETTO:+0200
TZNAME:CEST
DTSTART:20260329T010000
END:DAYLIGHT
BEGIN:STANDARD
TZOFFSETFROM:+0200
TZOFFSETTO:+0100
TZNAME:CET
DTSTART:20261025T010000
END:STANDARD
BEGIN:DAYLIGHT
TZOFFSETFROM:+0100
TZOFFSETTO:+0200
TZNAME:CEST
DTSTART:20270328T010000
END:DAYLIGHT
BEGIN:STANDARD
TZOFFSETFROM:+0200
TZOFFSETTO:+0100
TZNAME:CET
DTSTART:20271031T010000
END:STANDARD
END:VTIMEZONE
BEGIN:VEVENT
DTSTART;TZID=Europe/Paris:20260104T080000
DTEND;TZID=Europe/Paris:20260104T170000
DTSTAMP:20260421T132602
CREATED:20250731T124145Z
LAST-MODIFIED:20250731T124147Z
UID:15761-1767513600-1767546000@escaladeenmayenne.fr
SUMMARY:Championnat départemental de vitesse
DESCRIPTION:De U15 à veterans
URL:https://escaladeenmayenne.fr/event/championnat-departemental-de-vitesse-3/
LOCATION:Espace Mayenne\, 2 rue Josephine Baker\, Laval\, France
CATEGORIES:compétition,Compétition équipe départementale U15/U17/U19
END:VEVENT
END:VCALENDAR